BEGIN:VCALENDAR
VERSION:2.0
PRODID:-//Christian Faith Baptist Church - ECPv6.15.20//NONSGML v1.0//EN
CALSCALE:GREGORIAN
METHOD:PUBLISH
X-ORIGINAL-URL:https://mycfbc.org
X-WR-CALDESC:Events for Christian Faith Baptist Church
REFRESH-INTERVAL;VALUE=DURATION:PT1H
X-Robots-Tag:noindex
X-PUBLISHED-TTL:PT1H
BEGIN:VTIMEZONE
TZID:America/New_York
BEGIN:DAYLIGHT
TZOFFSETFROM:-0500
TZOFFSETTO:-0400
TZNAME:EDT
DTSTART:20230312T070000
END:DAYLIGHT
BEGIN:STANDARD
TZOFFSETFROM:-0400
TZOFFSETTO:-0500
TZNAME:EST
DTSTART:20231105T060000
END:STANDARD
BEGIN:DAYLIGHT
TZOFFSETFROM:-0500
TZOFFSETTO:-0400
TZNAME:EDT
DTSTART:20240310T070000
END:DAYLIGHT
BEGIN:STANDARD
TZOFFSETFROM:-0400
TZOFFSETTO:-0500
TZNAME:EST
DTSTART:20241103T060000
END:STANDARD
BEGIN:DAYLIGHT
TZOFFSETFROM:-0500
TZOFFSETTO:-0400
TZNAME:EDT
DTSTART:20250309T070000
END:DAYLIGHT
BEGIN:STANDARD
TZOFFSETFROM:-0400
TZOFFSETTO:-0500
TZNAME:EST
DTSTART:20251102T060000
END:STANDARD
END:VTIMEZONE
BEGIN:VEVENT
DTSTART;TZID=America/New_York:20241024T103000
DTEND;TZID=America/New_York:20241024T113000
DTSTAMP:20260419T090045
CREATED:20240924T163402Z
LAST-MODIFIED:20240924T163402Z
UID:4904-1729765800-1729769400@mycfbc.org
SUMMARY:Seniorcize
DESCRIPTION:
URL:https://mycfbc.org/event/seniorcize-200/
LOCATION:Christian Faith Baptist Church\, 509 Hilltop Rd\, Raleigh\, NC\, 27610\, United States
END:VEVENT
BEGIN:VEVENT
DTSTART;TZID=America/New_York:20241024T180000
DTEND;TZID=America/New_York:20241024T200000
DTSTAMP:20260419T090045
CREATED:20240924T163432Z
LAST-MODIFIED:20240924T163432Z
UID:4914-1729792800-1729800000@mycfbc.org
SUMMARY:CFBC Ensemble Choir Rehersal
DESCRIPTION:
URL:https://mycfbc.org/event/cfbc-ensemble-choir-rehersal-41/
LOCATION:Christian Faith Baptist Church\, 509 Hilltop Rd\, Raleigh\, NC\, 27610\, United States
END:VEVENT
BEGIN:VEVENT
DTSTART;TZID=America/New_York:20241024T190000
DTEND;TZID=America/New_York:20241024T200000
DTSTAMP:20260419T090045
CREATED:20240930T225755Z
LAST-MODIFIED:20240930T225755Z
UID:4919-1729796400-1729800000@mycfbc.org
SUMMARY:Fall Revival
DESCRIPTION:
URL:https://mycfbc.org/event/fall-revival-3/
END:VEVENT
END:VCALENDAR