BEGIN:VCALENDAR
VERSION:2.0
PRODID:-//Christian Faith Baptist Church - ECPv6.15.20//NONSGML v1.0//EN
CALSCALE:GREGORIAN
METHOD:PUBLISH
X-ORIGINAL-URL:https://mycfbc.org
X-WR-CALDESC:Events for Christian Faith Baptist Church
REFRESH-INTERVAL;VALUE=DURATION:PT1H
X-Robots-Tag:noindex
X-PUBLISHED-TTL:PT1H
BEGIN:VTIMEZONE
TZID:America/New_York
BEGIN:DAYLIGHT
TZOFFSETFROM:-0500
TZOFFSETTO:-0400
TZNAME:EDT
DTSTART:20230312T070000
END:DAYLIGHT
BEGIN:STANDARD
TZOFFSETFROM:-0400
TZOFFSETTO:-0500
TZNAME:EST
DTSTART:20231105T060000
END:STANDARD
BEGIN:DAYLIGHT
TZOFFSETFROM:-0500
TZOFFSETTO:-0400
TZNAME:EDT
DTSTART:20240310T070000
END:DAYLIGHT
BEGIN:STANDARD
TZOFFSETFROM:-0400
TZOFFSETTO:-0500
TZNAME:EST
DTSTART:20241103T060000
END:STANDARD
BEGIN:DAYLIGHT
TZOFFSETFROM:-0500
TZOFFSETTO:-0400
TZNAME:EDT
DTSTART:20250309T070000
END:DAYLIGHT
BEGIN:STANDARD
TZOFFSETFROM:-0400
TZOFFSETTO:-0500
TZNAME:EST
DTSTART:20251102T060000
END:STANDARD
END:VTIMEZONE
BEGIN:VEVENT
DTSTART;TZID=America/New_York:20241103T093000
DTEND;TZID=America/New_York:20241103T101500
DTSTAMP:20260419T090052
CREATED:20241014T194513Z
LAST-MODIFIED:20241014T203018Z
UID:4961-1730626200-1730628900@mycfbc.org
SUMMARY:Virtual Sunday School
DESCRIPTION:
URL:https://mycfbc.org/event/virtual-sunday-school-100/
END:VEVENT
BEGIN:VEVENT
DTSTART;TZID=America/New_York:20241103T110000
DTEND;TZID=America/New_York:20241103T120000
DTSTAMP:20260419T090052
CREATED:20241014T194835Z
LAST-MODIFIED:20241014T194835Z
UID:4970-1730631600-1730635200@mycfbc.org
SUMMARY:Sunday Hybrid Worship Service
DESCRIPTION:
URL:https://mycfbc.org/event/sunday-hybrid-worship-service-66/
END:VEVENT
BEGIN:VEVENT
DTSTART;TZID=America/New_York:20241105T103000
DTEND;TZID=America/New_York:20241105T113000
DTSTAMP:20260419T090052
CREATED:20241014T195740Z
LAST-MODIFIED:20241014T195740Z
UID:4992-1730802600-1730806200@mycfbc.org
SUMMARY:Seniorcize
DESCRIPTION:
URL:https://mycfbc.org/event/seniorcize-202/
END:VEVENT
BEGIN:VEVENT
DTSTART;TZID=America/New_York:20241105T180000
DTEND;TZID=America/New_York:20241105T200000
DTSTAMP:20260419T090052
CREATED:20241014T200333Z
LAST-MODIFIED:20241014T200333Z
UID:5008-1730829600-1730836800@mycfbc.org
SUMMARY:CFBC Ensemble Choir Rehearsal
DESCRIPTION:
URL:https://mycfbc.org/event/cfbc-ensemble-choir-rehearsal-133/
END:VEVENT
BEGIN:VEVENT
DTSTART;TZID=America/New_York:20241106T070000
DTEND;TZID=America/New_York:20241106T194500
DTSTAMP:20260419T090052
CREATED:20241014T195356Z
LAST-MODIFIED:20241014T195356Z
UID:4984-1730876400-1730922300@mycfbc.org
SUMMARY:Virtual Bible Study
DESCRIPTION:
URL:https://mycfbc.org/event/virtual-bible-study-96/
END:VEVENT
BEGIN:VEVENT
DTSTART;TZID=America/New_York:20241107T103000
DTEND;TZID=America/New_York:20241107T113000
DTSTAMP:20260419T090052
CREATED:20241014T200011Z
LAST-MODIFIED:20241014T200011Z
UID:5000-1730975400-1730979000@mycfbc.org
SUMMARY:Seniorcize
DESCRIPTION:
URL:https://mycfbc.org/event/seniorcize-206/
END:VEVENT
BEGIN:VEVENT
DTSTART;TZID=America/New_York:20241107T180000
DTEND;TZID=America/New_York:20241107T200000
DTSTAMP:20260419T090052
CREATED:20241014T200549Z
LAST-MODIFIED:20241014T200549Z
UID:5016-1731002400-1731009600@mycfbc.org
SUMMARY:CFBC Ensemble Choir Rehearsal
DESCRIPTION:
URL:https://mycfbc.org/event/cfbc-ensemble-choir-rehearsal-137/
END:VEVENT
BEGIN:VEVENT
DTSTART;TZID=America/New_York:20241110T093000
DTEND;TZID=America/New_York:20241110T101500
DTSTAMP:20260419T090052
CREATED:20241014T194602Z
LAST-MODIFIED:20241014T194602Z
UID:4963-1731231000-1731233700@mycfbc.org
SUMMARY:Virtual Sunday School
DESCRIPTION:
URL:https://mycfbc.org/event/virtual-sunday-school-101/
END:VEVENT
BEGIN:VEVENT
DTSTART;TZID=America/New_York:20241110T110000
DTEND;TZID=America/New_York:20241110T120000
DTSTAMP:20260419T090052
CREATED:20241014T194913Z
LAST-MODIFIED:20241014T194913Z
UID:4972-1731236400-1731240000@mycfbc.org
SUMMARY:Sunday Hybrid Worship Service
DESCRIPTION:
URL:https://mycfbc.org/event/sunday-hybrid-worship-service-67/
END:VEVENT
BEGIN:VEVENT
DTSTART;TZID=America/New_York:20241110T110000
DTEND;TZID=America/New_York:20241110T120000
DTSTAMP:20260419T090052
CREATED:20241014T195130Z
LAST-MODIFIED:20241014T195130Z
UID:4978-1731236400-1731240000@mycfbc.org
SUMMARY:Children's Church
DESCRIPTION:
URL:https://mycfbc.org/event/childrens-church-32/
END:VEVENT
BEGIN:VEVENT
DTSTART;TZID=America/New_York:20241112T103000
DTEND;TZID=America/New_York:20241112T113000
DTSTAMP:20260419T090052
CREATED:20241014T195816Z
LAST-MODIFIED:20241014T195816Z
UID:4994-1731407400-1731411000@mycfbc.org
SUMMARY:Seniorcize
DESCRIPTION:
URL:https://mycfbc.org/event/seniorcize-203/
END:VEVENT
BEGIN:VEVENT
DTSTART;TZID=America/New_York:20241112T180000
DTEND;TZID=America/New_York:20241112T200000
DTSTAMP:20260419T090052
CREATED:20241014T200409Z
LAST-MODIFIED:20241014T200409Z
UID:5010-1731434400-1731441600@mycfbc.org
SUMMARY:CFBC Ensemble Choir Rehearsal
DESCRIPTION:
URL:https://mycfbc.org/event/cfbc-ensemble-choir-rehearsal-134/
END:VEVENT
BEGIN:VEVENT
DTSTART;TZID=America/New_York:20241113T190000
DTEND;TZID=America/New_York:20241113T194500
DTSTAMP:20260419T090052
CREATED:20241014T195433Z
LAST-MODIFIED:20241014T195433Z
UID:4986-1731524400-1731527100@mycfbc.org
SUMMARY:Virtual Bible Study
DESCRIPTION:
URL:https://mycfbc.org/event/virtual-bible-study-97/
END:VEVENT
BEGIN:VEVENT
DTSTART;TZID=America/New_York:20241114T103000
DTEND;TZID=America/New_York:20241114T113000
DTSTAMP:20260419T090052
CREATED:20241014T200040Z
LAST-MODIFIED:20241014T200040Z
UID:5002-1731580200-1731583800@mycfbc.org
SUMMARY:Seniorcize
DESCRIPTION:
URL:https://mycfbc.org/event/seniorcize-207/
END:VEVENT
BEGIN:VEVENT
DTSTART;TZID=America/New_York:20241114T180000
DTEND;TZID=America/New_York:20241114T200000
DTSTAMP:20260419T090052
CREATED:20241014T200641Z
LAST-MODIFIED:20241014T200641Z
UID:5018-1731607200-1731614400@mycfbc.org
SUMMARY:CFBC Ensemble Choir Rehearsal
DESCRIPTION:
URL:https://mycfbc.org/event/cfbc-ensemble-choir-rehearsal-138/
END:VEVENT
BEGIN:VEVENT
DTSTART;TZID=America/New_York:20241117T093000
DTEND;TZID=America/New_York:20241117T101500
DTSTAMP:20260419T090052
CREATED:20241014T194642Z
LAST-MODIFIED:20241014T194642Z
UID:4965-1731835800-1731838500@mycfbc.org
SUMMARY:Virtual Sunday School
DESCRIPTION:
URL:https://mycfbc.org/event/virtual-sunday-school-102/
END:VEVENT
BEGIN:VEVENT
DTSTART;TZID=America/New_York:20241117T110000
DTEND;TZID=America/New_York:20241117T120000
DTSTAMP:20260419T090052
CREATED:20241014T194954Z
LAST-MODIFIED:20241014T194954Z
UID:4974-1731841200-1731844800@mycfbc.org
SUMMARY:Sunday Hybrid Worship Service
DESCRIPTION:
URL:https://mycfbc.org/event/sunday-hybrid-worship-service-68/
END:VEVENT
BEGIN:VEVENT
DTSTART;TZID=America/New_York:20241118T190000
DTEND;TZID=America/New_York:20241118T200000
DTSTAMP:20260419T090052
CREATED:20241014T195306Z
LAST-MODIFIED:20241014T195306Z
UID:4982-1731956400-1731960000@mycfbc.org
SUMMARY:Chosen Ladies Devotional Meeting
DESCRIPTION:
URL:https://mycfbc.org/event/chosen-ladies-devotional-meeting-11/
END:VEVENT
BEGIN:VEVENT
DTSTART;TZID=America/New_York:20241119T103000
DTEND;TZID=America/New_York:20241119T113000
DTSTAMP:20260419T090052
CREATED:20241014T195845Z
LAST-MODIFIED:20241014T195845Z
UID:4996-1732012200-1732015800@mycfbc.org
SUMMARY:Seniorcize
DESCRIPTION:
URL:https://mycfbc.org/event/seniorcize-204/
END:VEVENT
BEGIN:VEVENT
DTSTART;TZID=America/New_York:20241119T180000
DTEND;TZID=America/New_York:20241119T200000
DTSTAMP:20260419T090052
CREATED:20241014T200444Z
LAST-MODIFIED:20241014T200444Z
UID:5012-1732039200-1732046400@mycfbc.org
SUMMARY:CFBC Ensemble Choir Rehearsal
DESCRIPTION:
URL:https://mycfbc.org/event/cfbc-ensemble-choir-rehearsal-135/
END:VEVENT
BEGIN:VEVENT
DTSTART;TZID=America/New_York:20241120T190000
DTEND;TZID=America/New_York:20241120T194500
DTSTAMP:20260419T090052
CREATED:20241014T195541Z
LAST-MODIFIED:20241014T195541Z
UID:4988-1732129200-1732131900@mycfbc.org
SUMMARY:Virtual Bible Study
DESCRIPTION:
URL:https://mycfbc.org/event/virtual-bible-study-98/
END:VEVENT
BEGIN:VEVENT
DTSTART;TZID=America/New_York:20241121T103000
DTEND;TZID=America/New_York:20241121T113000
DTSTAMP:20260419T090052
CREATED:20241014T200103Z
LAST-MODIFIED:20241014T200103Z
UID:5004-1732185000-1732188600@mycfbc.org
SUMMARY:Seniorcize
DESCRIPTION:
URL:https://mycfbc.org/event/seniorcize-208/
END:VEVENT
BEGIN:VEVENT
DTSTART;TZID=America/New_York:20241121T180000
DTEND;TZID=America/New_York:20241121T200000
DTSTAMP:20260419T090052
CREATED:20241014T200712Z
LAST-MODIFIED:20241014T200712Z
UID:5020-1732212000-1732219200@mycfbc.org
SUMMARY:CFBC Ensemble Choir Rehearsal
DESCRIPTION:
URL:https://mycfbc.org/event/cfbc-ensemble-choir-rehearsal-139/
END:VEVENT
BEGIN:VEVENT
DTSTART;TZID=America/New_York:20241124T093000
DTEND;TZID=America/New_York:20241124T101500
DTSTAMP:20260419T090052
CREATED:20241014T194721Z
LAST-MODIFIED:20241014T194721Z
UID:4967-1732440600-1732443300@mycfbc.org
SUMMARY:Virtual Sunday School
DESCRIPTION:
URL:https://mycfbc.org/event/virtual-sunday-school-103/
END:VEVENT
BEGIN:VEVENT
DTSTART;TZID=America/New_York:20241124T110000
DTEND;TZID=America/New_York:20241124T120000
DTSTAMP:20260419T090052
CREATED:20241014T195024Z
LAST-MODIFIED:20241014T195024Z
UID:4976-1732446000-1732449600@mycfbc.org
SUMMARY:Sunday Hybrid Worship Service
DESCRIPTION:
URL:https://mycfbc.org/event/sunday-hybrid-worship-service-69/
END:VEVENT
BEGIN:VEVENT
DTSTART;TZID=America/New_York:20241124T110000
DTEND;TZID=America/New_York:20241124T120000
DTSTAMP:20260419T090052
CREATED:20241014T195157Z
LAST-MODIFIED:20241014T195157Z
UID:4980-1732446000-1732449600@mycfbc.org
SUMMARY:Children's Church
DESCRIPTION:
URL:https://mycfbc.org/event/childrens-church-33/
END:VEVENT
BEGIN:VEVENT
DTSTART;TZID=America/New_York:20241126T103000
DTEND;TZID=America/New_York:20241126T113000
DTSTAMP:20260419T090052
CREATED:20241014T195931Z
LAST-MODIFIED:20241014T195931Z
UID:4998-1732617000-1732620600@mycfbc.org
SUMMARY:Seniorcize
DESCRIPTION:
URL:https://mycfbc.org/event/seniorcize-205/
END:VEVENT
BEGIN:VEVENT
DTSTART;TZID=America/New_York:20241126T180000
DTEND;TZID=America/New_York:20241126T200000
DTSTAMP:20260419T090052
CREATED:20241014T200510Z
LAST-MODIFIED:20241014T200510Z
UID:5014-1732644000-1732651200@mycfbc.org
SUMMARY:CFBC Ensemble Choir Rehearsal
DESCRIPTION:
URL:https://mycfbc.org/event/cfbc-ensemble-choir-rehearsal-136/
END:VEVENT
BEGIN:VEVENT
DTSTART;TZID=America/New_York:20241127T190000
DTEND;TZID=America/New_York:20241127T194500
DTSTAMP:20260419T090052
CREATED:20241014T195613Z
LAST-MODIFIED:20241014T195613Z
UID:4990-1732734000-1732736700@mycfbc.org
SUMMARY:Virtual Bible Study
DESCRIPTION:
URL:https://mycfbc.org/event/virtual-bible-study-99/
END:VEVENT
END:VCALENDAR